BEGIN:VCALENDAR
VERSION:2.0
PRODID:-//KOLOLOSKATESHOP - ECPv6.8.3//NONSGML v1.0//EN
CALSCALE:GREGORIAN
METHOD:PUBLISH
X-WR-CALNAME:KOLOLOSKATESHOP
X-ORIGINAL-URL:https://kololoskateshop.com
X-WR-CALDESC:Évènements pour KOLOLOSKATESHOP
REFRESH-INTERVAL;VALUE=DURATION:PT1H
X-Robots-Tag:noindex
X-PUBLISHED-TTL:PT1H
BEGIN:VTIMEZONE
TZID:Africa/Casablanca
BEGIN:DAYLIGHT
TZOFFSETFROM:+0100
TZOFFSETTO:+0000
TZNAME:+00
DTSTART:20220327T020000
END:DAYLIGHT
BEGIN:STANDARD
TZOFFSETFROM:+0000
TZOFFSETTO:+0100
TZNAME:+01
DTSTART:20220508T020000
END:STANDARD
END:VTIMEZONE
BEGIN:VEVENT
DTSTART;VALUE=DATE:20220621
DTEND;VALUE=DATE:20220622
DTSTAMP:20260421T041629
CREATED:20220715T103429Z
LAST-MODIFIED:20220721T162802Z
UID:1732-1655769600-1655855999@kololoskateshop.com
SUMMARY:The Go Skateboarding Day 2022
DESCRIPTION:The go skateboarding day is coming up and we would like to support one more time all the skaters from Morocco. \nLocation : Casablanca📍- Nevada \nTime : 11 Am \n– Cash for tricks\n– Best trick\n– Ledge contest\n– Shredding streets \nOver 5000DH Prizes are waiting for you. \nThe door is open for sponsors\, let’s unite for the love of skateboarding ❤️🛹 \nShare this post let’s get this event lite. \n\nhttps://kololoskateshop.com/wp-content/uploads/2022/06/TheGoSkateboardingDay2022.mp4
URL:https://kololoskateshop.com/event/go-skateboarding-day-2022/
LOCATION:Skating Events\, Skatepark Rachidi (Nevada)\, Casablanca\, 20250\, Morocco
ATTACH;FMTTYPE=image/jpeg:https://kololoskateshop.com/wp-content/uploads/2022/06/TheGoSkateboardingDay2022.jpg
END:VEVENT
END:VCALENDAR