BEGIN:VCALENDAR
VERSION:2.0
PRODID:-//KOLOLOSKATESHOP - ECPv6.8.3//NONSGML v1.0//EN
CALSCALE:GREGORIAN
METHOD:PUBLISH
X-WR-CALNAME:KOLOLOSKATESHOP
X-ORIGINAL-URL:https://kololoskateshop.com
X-WR-CALDESC:Évènements pour KOLOLOSKATESHOP
REFRESH-INTERVAL;VALUE=DURATION:PT1H
X-Robots-Tag:noindex
X-PUBLISHED-TTL:PT1H
BEGIN:VTIMEZONE
TZID:Africa/Casablanca
BEGIN:DAYLIGHT
TZOFFSETFROM:+0100
TZOFFSETTO:+0000
TZNAME:+00
DTSTART:20230319T020000
END:DAYLIGHT
BEGIN:STANDARD
TZOFFSETFROM:+0000
TZOFFSETTO:+0100
TZNAME:+01
DTSTART:20230423T020000
END:STANDARD
END:VTIMEZONE
BEGIN:VEVENT
DTSTART;VALUE=DATE:20230621
DTEND;VALUE=DATE:20230622
DTSTAMP:20260420T082715
CREATED:20220715T103429Z
LAST-MODIFIED:20230615T004958Z
UID:2327-1687305600-1687391999@kololoskateshop.com
SUMMARY:The Go Skateboarding Day 2023
DESCRIPTION:Get ready for an incredible day of skateboarding at the Nevada Skatepark in Casablanca📍 on Go Skateboarding Day\, June 21\, 2023! Join us in celebrating the passion\, energy\, and creativity of skateboarders of all levels. Whether you’re a beginner or an expert\, this day gives you the opportunity to push your limits\, land new tricks\, and feel the adrenaline of riding. Come together\, share moments of camaraderie\, inspire and be inspired by the vibrant skateboarding community..❤️🛹 \nPréparez-vous à vivre une journée exceptionnelle de skateboard lors de la Journée mondiale du skateboard le 21 juin 2023 au Skatepark Nevada à Casablanca 📍 ! Rejoignez-nous pour célébrer la passion\, l’énergie et la créativité des skateurs de tous niveaux. Que vous soyez débutant ou expert\, cette journée vous offre l’occasion de repousser vos limites\, de réaliser de nouveaux tricks et de ressentir l’adrénaline de la glisse. Venez partager des moments de camaraderie\, inspirer et être inspiré par la communauté dynamique du skateboard.. ❤️🛹 \nShare this post let’s get this event lite.
URL:https://kololoskateshop.com/event/go-skateboarding-day-2023/
LOCATION:Skating Events\, Skatepark Rachidi (Nevada)\, Casablanca\, 20250\, Morocco
ATTACH;FMTTYPE=image/png:https://kololoskateshop.com/wp-content/uploads/2023/06/Go-Skate-Day-kololoskateshop-21062023.png
END:VEVENT
END:VCALENDAR